BEGIN:VCALENDAR
VERSION:2.0
PRODID:-//Aragón en Vivo - ECPv6.15.18//NONSGML v1.0//EN
CALSCALE:GREGORIAN
METHOD:PUBLISH
X-WR-CALNAME:Aragón en Vivo
X-ORIGINAL-URL:https://aragonenvivo.com
X-WR-CALDESC:Eventos para Aragón en Vivo
REFRESH-INTERVAL;VALUE=DURATION:PT1H
X-Robots-Tag:noindex
X-PUBLISHED-TTL:PT1H
BEGIN:VTIMEZONE
TZID:Europe/Madrid
BEGIN:DAYLIGHT
TZOFFSETFROM:+0100
TZOFFSETTO:+0200
TZNAME:CEST
DTSTART:20250330T010000
END:DAYLIGHT
BEGIN:STANDARD
TZOFFSETFROM:+0200
TZOFFSETTO:+0100
TZNAME:CET
DTSTART:20251026T010000
END:STANDARD
BEGIN:DAYLIGHT
TZOFFSETFROM:+0100
TZOFFSETTO:+0200
TZNAME:CEST
DTSTART:20260329T010000
END:DAYLIGHT
BEGIN:STANDARD
TZOFFSETFROM:+0200
TZOFFSETTO:+0100
TZNAME:CET
DTSTART:20261025T010000
END:STANDARD
BEGIN:DAYLIGHT
TZOFFSETFROM:+0100
TZOFFSETTO:+0200
TZNAME:CEST
DTSTART:20270328T010000
END:DAYLIGHT
BEGIN:STANDARD
TZOFFSETFROM:+0200
TZOFFSETTO:+0100
TZNAME:CET
DTSTART:20271031T010000
END:STANDARD
END:VTIMEZONE
BEGIN:VEVENT
DTSTART;TZID=Europe/Madrid:20260426T120000
DTEND;TZID=Europe/Madrid:20260426T235900
DTSTAMP:20260426T014518
CREATED:20260415T001542Z
LAST-MODIFIED:20260415T001543Z
UID:24490-1777204800-1777247940@aragonenvivo.com
SUMMARY:QUEENMANIA
DESCRIPTION:Tras el éxito de los últimos años del espectáculo familiar ‘QUEENMANÍA‘\, con más de 200.000 espectadores y una extensa GIRA NACIONAL que lo ha llevado con continuos SOLD OUTS por los PRINCIPALES TEATROS de más de 15 ciudades\, Rock en familia aterriza de nuevo en el Teatro de las Esquinas para ofrecernos una de las bandas más importantes de la historia del rock\, y que últimamente ha vuelto con fuerza a la actualidad: QUEEN.  \nRevive la magia de la música en directo del grupo de Freddie Mercury de la mano de Play the Game\, su mejor banda homenaje. \n«QUEENMANÍA» es una experiencia musical\, familiar\, interactiva y llena de adrenalina que no os podéis perder.
URL:https://aragonenvivo.com/evento/queenmania/
LOCATION:Teatro de las Esquinas\, Vía Univérsitas\, 30-32\, Zaragoza\, Zaragoza\, 50017\, España
ATTACH;FMTTYPE=image/webp:https://aragonenvivo.com/wp-content/uploads/3370-2.webp
END:VEVENT
BEGIN:VEVENT
DTSTART;TZID=Europe/Madrid:20260426T190000
DTEND;TZID=Europe/Madrid:20260426T235900
DTSTAMP:20260426T014518
CREATED:20260210T101324Z
LAST-MODIFIED:20260210T101325Z
UID:23410-1777230000-1777247940@aragonenvivo.com
SUMMARY:TRIBUTO A SABINA - Jimenos Band
DESCRIPTION:El mejor tributo a Sabina dicho por la critica en el Teatro de las Esquinas de Zaragoza.  \nDesde 2009 han realizado más de 1000 conciertos a nivel nacional e internacional\, avalados por el mismísimo Sabina.\nEn 2022 realizaron un sinfónico junto a la banda municipal de Úbeda\, en la plaza de Toros\, marcado en las jornadas Sabineras.\nFormado por los hermanos Jimenos con los mejores músicos del panorama actual.\nUn espectáculo 100% en vivo y en directo\, repasando la carrera del maestro jienense\, y con mucho humor.
URL:https://aragonenvivo.com/evento/tributo-a-sabina-jimenos-band-2/
LOCATION:Teatro de las Esquinas\, Vía Univérsitas\, 30-32\, Zaragoza\, Zaragoza\, 50017\, España
ATTACH;FMTTYPE=image/webp:https://aragonenvivo.com/wp-content/uploads/jimenosband_1.webp
END:VEVENT
BEGIN:VEVENT
DTSTART;TZID=Europe/Madrid:20260426T190000
DTEND;TZID=Europe/Madrid:20260426T235900
DTSTAMP:20260426T014518
CREATED:20260414T151625Z
LAST-MODIFIED:20260414T151626Z
UID:24144-1777230000-1777247940@aragonenvivo.com
SUMMARY:DEATHGEIST (BRASIL)
DESCRIPTION:Amigos de Dioses del Metal\, DEATHGEIST es una banda brasileña (Sao Paulo) de Thrash Metal creada por los músicos Adriano Perfetto (ex-Bywar y actualmente en una banda de Metal de Stoner / Doom llamada «Timor Trail») en las guitarras y voces\, y Victor Regep (ex-Bywar) en la guitarra. Las principales influencias de la banda provienen de la escena alemana de Thrash Metal de los 80’s pero sin llegar a ser tan crudos como las leyendas germanas de la época. 666 es su segundo LP\, tras su disco homónimo de 2017. Lanzado el pasado mes de junio\, tiene el aval del sello Thrash Of Death Records. \nEs un álbum cortito de minutos pero extremadamente largo de intensidad. Nueve temas y casi 35 minutos ya nos dicen que las canciones son tsunamis directos a la yugular\, con unas guitarras cizalla y la esplendida voz para el estilo que logra lanzar Adriano. La magnífica portada no se queda a la zaga de lo musical\, típica thrash pero bien hecha. Resumiendo\, estamos ante un álbum que un thrasher que se precie no debiera dejar de escuchar\, quien sabe\, siempre se puede descubrir a una gran banda allende los mares.
URL:https://aragonenvivo.com/evento/deathgeist-brasil/
LOCATION:Sala Creedence\, Plaza San Lamberto\, 3\, Zaragoza\, Zaragoza\, 50004\, España
ATTACH;FMTTYPE=image/webp:https://aragonenvivo.com/wp-content/uploads/deatgeist-underworld-2.webp
ORGANIZER;CN="Sala Creedence":MAILTO:salacreedence@icloud.com
END:VEVENT
BEGIN:VEVENT
DTSTART;TZID=Europe/Madrid:20260426T190000
DTEND;TZID=Europe/Madrid:20260426T235900
DTSTAMP:20260426T014518
CREATED:20260415T001400Z
LAST-MODIFIED:20260415T001401Z
UID:24284-1777230000-1777247940@aragonenvivo.com
SUMMARY:PATRICIA SORNOSA - DESAPAREZCA AQUI
DESCRIPTION:PATRICIA SORNOSA \nPatricia SORNOSA actúa en Zaragoza con su show DESAPAREZCA AQUÍ. En Belushi Club de Comedia ¡No te la pierdas!
URL:https://aragonenvivo.com/evento/patricia-sornosa-desaparezca-aqui/
LOCATION:Belushi\, C. de Bernardo Fita\, 11\, Zaragoza\, Zaragoza\, 50005\, Spain
ATTACH;FMTTYPE=image/webp:https://aragonenvivo.com/wp-content/uploads/20260426patriciasornosaa-2.webp
END:VEVENT
BEGIN:VEVENT
DTSTART;TZID=Europe/Madrid:20260426T200000
DTEND;TZID=Europe/Madrid:20260426T235900
DTSTAMP:20260426T014518
CREATED:20260418T050105Z
LAST-MODIFIED:20260418T050106Z
UID:23900-1777233600-1777247940@aragonenvivo.com
SUMMARY:LUCIO LUPANO 4TET
DESCRIPTION:Este cuarteto liderado por Lucio Lupano interpreta composiciones originales de este\, en el que unen la tradición jazzística y las ideas e identidad del siglo XXI para traer un discurso especial\, en el que se prima la escucha e interacción.\nGuitarra: Lucio Lupano\nContrabajo: Javi Callen\nBatería: Carles Pérez\nPiano: Miguel Rodríguez
URL:https://aragonenvivo.com/evento/lucio-lupano-4tet/
LOCATION:Rock & Blues Café\, C./ Cuatro de Agosto\, 5\, Zaragoza\, Zaragoza\, 50003\, España
ATTACH;FMTTYPE=image/jpeg:https://aragonenvivo.com/wp-content/uploads/rock-blues-LOGO.jpg
END:VEVENT
END:VCALENDAR